BEGIN:VCALENDAR
VERSION:2.0
PRODID:-//wp-events-plugin.com//6.4.7.3//EN
TZID:Europe/Paris
X-WR-TIMEZONE:Europe/Paris
BEGIN:VEVENT
UID:413@leculdechouette.fr
DTSTART;TZID=Europe/Paris:20260301T110000
DTEND;TZID=Europe/Paris:20260301T170000
DTSTAMP:20260123T093238Z
URL:https://www.leculdechouette.fr/events/brunch-12/
SUMMARY:Brunch
DESCRIPTION:
LOCATION:https://www.eventbrite.fr/e/brunch-du-dimanche-tickets-19814099886
 14?aff=oddtdtcreator
END:VEVENT
BEGIN:VTIMEZONE
TZID:Europe/Paris
X-LIC-LOCATION:Europe/Paris
BEGIN:STANDARD
DTSTART:20251026T020000
TZOFFSETFROM:+0200
TZOFFSETTO:+0100
TZNAME:CET
END:STANDARD
END:VTIMEZONE
END:VCALENDAR